BEGIN:VCALENDAR
VERSION:2.0
PRODID:-//SHG Lily-Leben Viersen - ECPv6.15.20//NONSGML v1.0//EN
CALSCALE:GREGORIAN
METHOD:PUBLISH
X-WR-CALNAME:SHG Lily-Leben Viersen
X-ORIGINAL-URL:https://shg-lily-leben.de
X-WR-CALDESC:Veranstaltungen für SHG Lily-Leben Viersen
REFRESH-INTERVAL;VALUE=DURATION:PT1H
X-Robots-Tag:noindex
X-PUBLISHED-TTL:PT1H
BEGIN:VTIMEZONE
TZID:Europe/Paris
BEGIN:DAYLIGHT
TZOFFSETFROM:+0100
TZOFFSETTO:+0200
TZNAME:CEST
DTSTART:20240331T010000
END:DAYLIGHT
BEGIN:STANDARD
TZOFFSETFROM:+0200
TZOFFSETTO:+0100
TZNAME:CET
DTSTART:20241027T010000
END:STANDARD
BEGIN:DAYLIGHT
TZOFFSETFROM:+0100
TZOFFSETTO:+0200
TZNAME:CEST
DTSTART:20250330T010000
END:DAYLIGHT
BEGIN:STANDARD
TZOFFSETFROM:+0200
TZOFFSETTO:+0100
TZNAME:CET
DTSTART:20251026T010000
END:STANDARD
BEGIN:DAYLIGHT
TZOFFSETFROM:+0100
TZOFFSETTO:+0200
TZNAME:CEST
DTSTART:20260329T010000
END:DAYLIGHT
BEGIN:STANDARD
TZOFFSETFROM:+0200
TZOFFSETTO:+0100
TZNAME:CET
DTSTART:20261025T010000
END:STANDARD
END:VTIMEZONE
BEGIN:VEVENT
DTSTART;TZID=Europe/Paris:20250804T180000
DTEND;TZID=Europe/Paris:20250804T193000
DTSTAMP:20260422T174744
CREATED:20250313T180705Z
LAST-MODIFIED:20250314T215757Z
UID:655-1754330400-1754335800@shg-lily-leben.de
SUMMARY:Walking
DESCRIPTION:Da das Lipödem eine fortschreitende Krankheit ist\, ist es wichtig\, mobil zu bleiben. Daher treffen wir uns regelmäßig einmal in der Woche zum gemeinsamen Walken (etwa 3 km) sowohl in Mönchengladbach als auch in Viersen. Wir machen Pausen und passen unser Tempo an\, niemand wird zurückgelassen. Auch hier gilt: Gemeinsam sind wir stark!\n\n\n\n\nTeile gerne diesen Beitrag
URL:https://shg-lily-leben.de/termin/walking-19/
LOCATION:Walkingtreff\, Bitte bei Anmeldung erfragen. Anmeldung unter shg-lily-leben @ web.de
CATEGORIES:SHG Lily-Leben
ATTACH;FMTTYPE=image/png:https://shg-lily-leben.de/wp-content/uploads/2025/03/Walking.png
END:VEVENT
BEGIN:VEVENT
DTSTART;TZID=Europe/Paris:20250811T180000
DTEND;TZID=Europe/Paris:20250811T193000
DTSTAMP:20260422T174744
CREATED:20250313T180705Z
LAST-MODIFIED:20250314T215825Z
UID:656-1754935200-1754940600@shg-lily-leben.de
SUMMARY:Walking
DESCRIPTION:Da das Lipödem eine fortschreitende Krankheit ist\, ist es wichtig\, mobil zu bleiben. Daher treffen wir uns regelmäßig einmal in der Woche zum gemeinsamen Walken (etwa 3 km) sowohl in Mönchengladbach als auch in Viersen. Wir machen Pausen und passen unser Tempo an\, niemand wird zurückgelassen. Auch hier gilt: Gemeinsam sind wir stark!\n\n\n\n\nTeile gerne diesen Beitrag
URL:https://shg-lily-leben.de/termin/walking-20/
LOCATION:Walkingtreff\, Bitte bei Anmeldung erfragen. Anmeldung unter shg-lily-leben @ web.de
CATEGORIES:SHG Lily-Leben
ATTACH;FMTTYPE=image/png:https://shg-lily-leben.de/wp-content/uploads/2025/03/Walking.png
END:VEVENT
BEGIN:VEVENT
DTSTART;TZID=Europe/Paris:20250818T180000
DTEND;TZID=Europe/Paris:20250818T193000
DTSTAMP:20260422T174744
CREATED:20250313T180706Z
LAST-MODIFIED:20250314T215825Z
UID:657-1755540000-1755545400@shg-lily-leben.de
SUMMARY:Walking
DESCRIPTION:Da das Lipödem eine fortschreitende Krankheit ist\, ist es wichtig\, mobil zu bleiben. Daher treffen wir uns regelmäßig einmal in der Woche zum gemeinsamen Walken (etwa 3 km) sowohl in Mönchengladbach als auch in Viersen. Wir machen Pausen und passen unser Tempo an\, niemand wird zurückgelassen. Auch hier gilt: Gemeinsam sind wir stark!\n\n\n\n\nTeile gerne diesen Beitrag
URL:https://shg-lily-leben.de/termin/walking-21/
LOCATION:Walkingtreff\, Bitte bei Anmeldung erfragen. Anmeldung unter shg-lily-leben @ web.de
CATEGORIES:SHG Lily-Leben
ATTACH;FMTTYPE=image/png:https://shg-lily-leben.de/wp-content/uploads/2025/03/Walking.png
END:VEVENT
BEGIN:VEVENT
DTSTART;TZID=Europe/Paris:20250825T180000
DTEND;TZID=Europe/Paris:20250825T193000
DTSTAMP:20260422T174744
CREATED:20250313T180722Z
LAST-MODIFIED:20250314T215825Z
UID:658-1756144800-1756150200@shg-lily-leben.de
SUMMARY:Walking
DESCRIPTION:Da das Lipödem eine fortschreitende Krankheit ist\, ist es wichtig\, mobil zu bleiben. Daher treffen wir uns regelmäßig einmal in der Woche zum gemeinsamen Walken (etwa 3 km) sowohl in Mönchengladbach als auch in Viersen. Wir machen Pausen und passen unser Tempo an\, niemand wird zurückgelassen. Auch hier gilt: Gemeinsam sind wir stark!\n\n\n\n\nTeile gerne diesen Beitrag
URL:https://shg-lily-leben.de/termin/walking-22/
LOCATION:Walkingtreff\, Bitte bei Anmeldung erfragen. Anmeldung unter shg-lily-leben @ web.de
CATEGORIES:SHG Lily-Leben
ATTACH;FMTTYPE=image/png:https://shg-lily-leben.de/wp-content/uploads/2025/03/Walking.png
END:VEVENT
END:VCALENDAR