BEGIN:VCALENDAR
VERSION:2.0
PRODID:-//SHG Lily-Leben Viersen - ECPv6.15.20//NONSGML v1.0//EN
CALSCALE:GREGORIAN
METHOD:PUBLISH
X-WR-CALNAME:SHG Lily-Leben Viersen
X-ORIGINAL-URL:https://shg-lily-leben.de
X-WR-CALDESC:Veranstaltungen für SHG Lily-Leben Viersen
REFRESH-INTERVAL;VALUE=DURATION:PT1H
X-Robots-Tag:noindex
X-PUBLISHED-TTL:PT1H
BEGIN:VTIMEZONE
TZID:Europe/Paris
BEGIN:DAYLIGHT
TZOFFSETFROM:+0100
TZOFFSETTO:+0200
TZNAME:CEST
DTSTART:20240331T010000
END:DAYLIGHT
BEGIN:STANDARD
TZOFFSETFROM:+0200
TZOFFSETTO:+0100
TZNAME:CET
DTSTART:20241027T010000
END:STANDARD
BEGIN:DAYLIGHT
TZOFFSETFROM:+0100
TZOFFSETTO:+0200
TZNAME:CEST
DTSTART:20250330T010000
END:DAYLIGHT
BEGIN:STANDARD
TZOFFSETFROM:+0200
TZOFFSETTO:+0100
TZNAME:CET
DTSTART:20251026T010000
END:STANDARD
BEGIN:DAYLIGHT
TZOFFSETFROM:+0100
TZOFFSETTO:+0200
TZNAME:CEST
DTSTART:20260329T010000
END:DAYLIGHT
BEGIN:STANDARD
TZOFFSETFROM:+0200
TZOFFSETTO:+0100
TZNAME:CET
DTSTART:20261025T010000
END:STANDARD
END:VTIMEZONE
BEGIN:VEVENT
DTSTART;TZID=Europe/Paris:20251201T180000
DTEND;TZID=Europe/Paris:20251201T193000
DTSTAMP:20260420T100326
CREATED:20250313T180750Z
LAST-MODIFIED:20250314T215824Z
UID:672-1764612000-1764617400@shg-lily-leben.de
SUMMARY:Walking
DESCRIPTION:Da das Lipödem eine fortschreitende Krankheit ist\, ist es wichtig\, mobil zu bleiben. Daher treffen wir uns regelmäßig einmal in der Woche zum gemeinsamen Walken (etwa 3 km) sowohl in Mönchengladbach als auch in Viersen. Wir machen Pausen und passen unser Tempo an\, niemand wird zurückgelassen. Auch hier gilt: Gemeinsam sind wir stark!\n\n\n\n\nTeile gerne diesen Beitrag
URL:https://shg-lily-leben.de/termin/walking-36/
LOCATION:Walkingtreff\, Bitte bei Anmeldung erfragen. Anmeldung unter shg-lily-leben @ web.de
CATEGORIES:SHG Lily-Leben
ATTACH;FMTTYPE=image/png:https://shg-lily-leben.de/wp-content/uploads/2025/03/Walking.png
END:VEVENT
BEGIN:VEVENT
DTSTART;TZID=Europe/Paris:20251205T200000
DTEND;TZID=Europe/Paris:20251205T214500
DTSTAMP:20260420T100326
CREATED:20250313T180612Z
LAST-MODIFIED:20250314T215824Z
UID:634-1764964800-1764971100@shg-lily-leben.de
SUMMARY:Schwimmen / Aquagymnastik
DESCRIPTION:Bewegung im Wasser ist nicht nur besonders gelenkschonend\, sondern auch bei Lipödem und/oder Adipositas sehr gut machbar. Einmal wöchentlich treffen wir uns deshalb freitags von 20 bis 21:45 Uhr und haben gemeinsam mit der Behindertensportgemeinschaft MG Exklusivzeit in einem Schwimmbad in Mönchengladbach\, um dort unter der Aufsicht eines Rettungsschwimmers ganz unter uns Aquagymnastik zu betreiben.\n\n\n\n\nTeile gerne diesen Beitrag
URL:https://shg-lily-leben.de/termin/schwimmen-aquagymnastik-47/
LOCATION:Pahlkebad Mönchengladbach\, Pahlkestraße 10\, Mönchengladbach\, !!! Bitte anmelden unter shg-lily-leben @ web.de. Teilnahme nur mit vorheriger Anmeldung und 12er Karte oder Reha-Sport-Verordnung\, 41236\, Germany
CATEGORIES:SHG Lily-Leben
ATTACH;FMTTYPE=image/png:https://shg-lily-leben.de/wp-content/uploads/2025/03/Schwimmen.png
END:VEVENT
BEGIN:VEVENT
DTSTART;TZID=Europe/Paris:20251208T180000
DTEND;TZID=Europe/Paris:20251208T193000
DTSTAMP:20260420T100326
CREATED:20250313T180755Z
LAST-MODIFIED:20250314T215823Z
UID:673-1765216800-1765222200@shg-lily-leben.de
SUMMARY:Walking
DESCRIPTION:Da das Lipödem eine fortschreitende Krankheit ist\, ist es wichtig\, mobil zu bleiben. Daher treffen wir uns regelmäßig einmal in der Woche zum gemeinsamen Walken (etwa 3 km) sowohl in Mönchengladbach als auch in Viersen. Wir machen Pausen und passen unser Tempo an\, niemand wird zurückgelassen. Auch hier gilt: Gemeinsam sind wir stark!\n\n\n\n\nTeile gerne diesen Beitrag
URL:https://shg-lily-leben.de/termin/walking-37/
LOCATION:Walkingtreff\, Bitte bei Anmeldung erfragen. Anmeldung unter shg-lily-leben @ web.de
CATEGORIES:SHG Lily-Leben
ATTACH;FMTTYPE=image/png:https://shg-lily-leben.de/wp-content/uploads/2025/03/Walking.png
END:VEVENT
BEGIN:VEVENT
DTSTART;TZID=Europe/Paris:20251212T200000
DTEND;TZID=Europe/Paris:20251212T214500
DTSTAMP:20260420T100326
CREATED:20250313T180612Z
LAST-MODIFIED:20250314T215823Z
UID:635-1765569600-1765575900@shg-lily-leben.de
SUMMARY:Schwimmen / Aquagymnastik
DESCRIPTION:Bewegung im Wasser ist nicht nur besonders gelenkschonend\, sondern auch bei Lipödem und/oder Adipositas sehr gut machbar. Einmal wöchentlich treffen wir uns deshalb freitags von 20 bis 21:45 Uhr und haben gemeinsam mit der Behindertensportgemeinschaft MG Exklusivzeit in einem Schwimmbad in Mönchengladbach\, um dort unter der Aufsicht eines Rettungsschwimmers ganz unter uns Aquagymnastik zu betreiben.\n\n\n\n\nTeile gerne diesen Beitrag
URL:https://shg-lily-leben.de/termin/schwimmen-aquagymnastik-48/
LOCATION:Pahlkebad Mönchengladbach\, Pahlkestraße 10\, Mönchengladbach\, !!! Bitte anmelden unter shg-lily-leben @ web.de. Teilnahme nur mit vorheriger Anmeldung und 12er Karte oder Reha-Sport-Verordnung\, 41236\, Germany
CATEGORIES:SHG Lily-Leben
ATTACH;FMTTYPE=image/png:https://shg-lily-leben.de/wp-content/uploads/2025/03/Schwimmen.png
END:VEVENT
BEGIN:VEVENT
DTSTART;TZID=Europe/Paris:20251215T180000
DTEND;TZID=Europe/Paris:20251215T193000
DTSTAMP:20260420T100326
CREATED:20250313T180755Z
LAST-MODIFIED:20250314T215823Z
UID:674-1765821600-1765827000@shg-lily-leben.de
SUMMARY:Walking
DESCRIPTION:Da das Lipödem eine fortschreitende Krankheit ist\, ist es wichtig\, mobil zu bleiben. Daher treffen wir uns regelmäßig einmal in der Woche zum gemeinsamen Walken (etwa 3 km) sowohl in Mönchengladbach als auch in Viersen. Wir machen Pausen und passen unser Tempo an\, niemand wird zurückgelassen. Auch hier gilt: Gemeinsam sind wir stark!\n\n\n\n\nTeile gerne diesen Beitrag
URL:https://shg-lily-leben.de/termin/walking-38/
LOCATION:Walkingtreff\, Bitte bei Anmeldung erfragen. Anmeldung unter shg-lily-leben @ web.de
CATEGORIES:SHG Lily-Leben
ATTACH;FMTTYPE=image/png:https://shg-lily-leben.de/wp-content/uploads/2025/03/Walking.png
END:VEVENT
BEGIN:VEVENT
DTSTART;TZID=Europe/Paris:20251219T200000
DTEND;TZID=Europe/Paris:20251219T214500
DTSTAMP:20260420T100326
CREATED:20250313T180612Z
LAST-MODIFIED:20250314T215823Z
UID:636-1766174400-1766180700@shg-lily-leben.de
SUMMARY:Schwimmen / Aquagymnastik
DESCRIPTION:Bewegung im Wasser ist nicht nur besonders gelenkschonend\, sondern auch bei Lipödem und/oder Adipositas sehr gut machbar. Einmal wöchentlich treffen wir uns deshalb freitags von 20 bis 21:45 Uhr und haben gemeinsam mit der Behindertensportgemeinschaft MG Exklusivzeit in einem Schwimmbad in Mönchengladbach\, um dort unter der Aufsicht eines Rettungsschwimmers ganz unter uns Aquagymnastik zu betreiben.\n\n\n\n\nTeile gerne diesen Beitrag
URL:https://shg-lily-leben.de/termin/schwimmen-aquagymnastik-49/
LOCATION:Pahlkebad Mönchengladbach\, Pahlkestraße 10\, Mönchengladbach\, !!! Bitte anmelden unter shg-lily-leben @ web.de. Teilnahme nur mit vorheriger Anmeldung und 12er Karte oder Reha-Sport-Verordnung\, 41236\, Germany
CATEGORIES:SHG Lily-Leben
ATTACH;FMTTYPE=image/png:https://shg-lily-leben.de/wp-content/uploads/2025/03/Schwimmen.png
END:VEVENT
BEGIN:VEVENT
DTSTART;TZID=Europe/Paris:20251222T180000
DTEND;TZID=Europe/Paris:20251222T193000
DTSTAMP:20260420T100326
CREATED:20250313T180755Z
LAST-MODIFIED:20250314T215823Z
UID:675-1766426400-1766431800@shg-lily-leben.de
SUMMARY:Walking
DESCRIPTION:Da das Lipödem eine fortschreitende Krankheit ist\, ist es wichtig\, mobil zu bleiben. Daher treffen wir uns regelmäßig einmal in der Woche zum gemeinsamen Walken (etwa 3 km) sowohl in Mönchengladbach als auch in Viersen. Wir machen Pausen und passen unser Tempo an\, niemand wird zurückgelassen. Auch hier gilt: Gemeinsam sind wir stark!\n\n\n\n\nTeile gerne diesen Beitrag
URL:https://shg-lily-leben.de/termin/walking-39/
LOCATION:Walkingtreff\, Bitte bei Anmeldung erfragen. Anmeldung unter shg-lily-leben @ web.de
CATEGORIES:SHG Lily-Leben
ATTACH;FMTTYPE=image/png:https://shg-lily-leben.de/wp-content/uploads/2025/03/Walking.png
END:VEVENT
BEGIN:VEVENT
DTSTART;TZID=Europe/Paris:20251229T180000
DTEND;TZID=Europe/Paris:20251229T193000
DTSTAMP:20260420T100326
CREATED:20250313T180755Z
LAST-MODIFIED:20250314T215823Z
UID:676-1767031200-1767036600@shg-lily-leben.de
SUMMARY:Walking
DESCRIPTION:Da das Lipödem eine fortschreitende Krankheit ist\, ist es wichtig\, mobil zu bleiben. Daher treffen wir uns regelmäßig einmal in der Woche zum gemeinsamen Walken (etwa 3 km) sowohl in Mönchengladbach als auch in Viersen. Wir machen Pausen und passen unser Tempo an\, niemand wird zurückgelassen. Auch hier gilt: Gemeinsam sind wir stark!\n\n\n\n\nTeile gerne diesen Beitrag
URL:https://shg-lily-leben.de/termin/walking-40/
LOCATION:Walkingtreff\, Bitte bei Anmeldung erfragen. Anmeldung unter shg-lily-leben @ web.de
CATEGORIES:SHG Lily-Leben
ATTACH;FMTTYPE=image/png:https://shg-lily-leben.de/wp-content/uploads/2025/03/Walking.png
END:VEVENT
END:VCALENDAR