BEGIN:VCALENDAR
VERSION:2.0
PRODID:-//SHG Lily-Leben Viersen - ECPv6.15.20//NONSGML v1.0//EN
CALSCALE:GREGORIAN
METHOD:PUBLISH
X-ORIGINAL-URL:https://shg-lily-leben.de
X-WR-CALDESC:Veranstaltungen für SHG Lily-Leben Viersen
REFRESH-INTERVAL;VALUE=DURATION:PT1H
X-Robots-Tag:noindex
X-PUBLISHED-TTL:PT1H
BEGIN:VTIMEZONE
TZID:Europe/Paris
BEGIN:DAYLIGHT
TZOFFSETFROM:+0100
TZOFFSETTO:+0200
TZNAME:CEST
DTSTART:20240331T010000
END:DAYLIGHT
BEGIN:STANDARD
TZOFFSETFROM:+0200
TZOFFSETTO:+0100
TZNAME:CET
DTSTART:20241027T010000
END:STANDARD
BEGIN:DAYLIGHT
TZOFFSETFROM:+0100
TZOFFSETTO:+0200
TZNAME:CEST
DTSTART:20250330T010000
END:DAYLIGHT
BEGIN:STANDARD
TZOFFSETFROM:+0200
TZOFFSETTO:+0100
TZNAME:CET
DTSTART:20251026T010000
END:STANDARD
BEGIN:DAYLIGHT
TZOFFSETFROM:+0100
TZOFFSETTO:+0200
TZNAME:CEST
DTSTART:20260329T010000
END:DAYLIGHT
BEGIN:STANDARD
TZOFFSETFROM:+0200
TZOFFSETTO:+0100
TZNAME:CET
DTSTART:20261025T010000
END:STANDARD
END:VTIMEZONE
BEGIN:VEVENT
DTSTART;TZID=Europe/Paris:20251103T180000
DTEND;TZID=Europe/Paris:20251103T193000
DTSTAMP:20260422T113622
CREATED:20250313T180749Z
LAST-MODIFIED:20250314T215824Z
UID:668-1762192800-1762198200@shg-lily-leben.de
SUMMARY:Walking
DESCRIPTION:Da das Lipödem eine fortschreitende Krankheit ist\, ist es wichtig\, mobil zu bleiben. Daher treffen wir uns regelmäßig einmal in der Woche zum gemeinsamen Walken (etwa 3 km) sowohl in Mönchengladbach als auch in Viersen. Wir machen Pausen und passen unser Tempo an\, niemand wird zurückgelassen. Auch hier gilt: Gemeinsam sind wir stark!\n\n\n\n\nTeile gerne diesen Beitrag
URL:https://shg-lily-leben.de/termin/walking-32/
LOCATION:Walkingtreff\, Bitte bei Anmeldung erfragen. Anmeldung unter shg-lily-leben @ web.de
CATEGORIES:SHG Lily-Leben
ATTACH;FMTTYPE=image/png:https://shg-lily-leben.de/wp-content/uploads/2025/03/Walking.png
END:VEVENT
BEGIN:VEVENT
DTSTART;TZID=Europe/Paris:20251107T200000
DTEND;TZID=Europe/Paris:20251107T214500
DTSTAMP:20260422T113622
CREATED:20250313T180608Z
LAST-MODIFIED:20250314T215824Z
UID:630-1762545600-1762551900@shg-lily-leben.de
SUMMARY:Schwimmen / Aquagymnastik
DESCRIPTION:Bewegung im Wasser ist nicht nur besonders gelenkschonend\, sondern auch bei Lipödem und/oder Adipositas sehr gut machbar. Einmal wöchentlich treffen wir uns deshalb freitags von 20 bis 21:45 Uhr und haben gemeinsam mit der Behindertensportgemeinschaft MG Exklusivzeit in einem Schwimmbad in Mönchengladbach\, um dort unter der Aufsicht eines Rettungsschwimmers ganz unter uns Aquagymnastik zu betreiben.\n\n\n\n\nTeile gerne diesen Beitrag
URL:https://shg-lily-leben.de/termin/schwimmen-aquagymnastik-43/
LOCATION:Pahlkebad Mönchengladbach\, Pahlkestraße 10\, Mönchengladbach\, !!! Bitte anmelden unter shg-lily-leben @ web.de. Teilnahme nur mit vorheriger Anmeldung und 12er Karte oder Reha-Sport-Verordnung\, 41236\, Germany
CATEGORIES:SHG Lily-Leben
ATTACH;FMTTYPE=image/png:https://shg-lily-leben.de/wp-content/uploads/2025/03/Schwimmen.png
END:VEVENT
BEGIN:VEVENT
DTSTART;TZID=Europe/Paris:20251110T180000
DTEND;TZID=Europe/Paris:20251110T193000
DTSTAMP:20260422T113622
CREATED:20250313T180749Z
LAST-MODIFIED:20250314T215824Z
UID:669-1762797600-1762803000@shg-lily-leben.de
SUMMARY:Walking
DESCRIPTION:Da das Lipödem eine fortschreitende Krankheit ist\, ist es wichtig\, mobil zu bleiben. Daher treffen wir uns regelmäßig einmal in der Woche zum gemeinsamen Walken (etwa 3 km) sowohl in Mönchengladbach als auch in Viersen. Wir machen Pausen und passen unser Tempo an\, niemand wird zurückgelassen. Auch hier gilt: Gemeinsam sind wir stark!\n\n\n\n\nTeile gerne diesen Beitrag
URL:https://shg-lily-leben.de/termin/walking-33/
LOCATION:Walkingtreff\, Bitte bei Anmeldung erfragen. Anmeldung unter shg-lily-leben @ web.de
CATEGORIES:SHG Lily-Leben
ATTACH;FMTTYPE=image/png:https://shg-lily-leben.de/wp-content/uploads/2025/03/Walking.png
END:VEVENT
BEGIN:VEVENT
DTSTART;TZID=Europe/Paris:20251114T200000
DTEND;TZID=Europe/Paris:20251114T214500
DTSTAMP:20260422T113622
CREATED:20250313T180608Z
LAST-MODIFIED:20250314T215824Z
UID:631-1763150400-1763156700@shg-lily-leben.de
SUMMARY:Schwimmen / Aquagymnastik
DESCRIPTION:Bewegung im Wasser ist nicht nur besonders gelenkschonend\, sondern auch bei Lipödem und/oder Adipositas sehr gut machbar. Einmal wöchentlich treffen wir uns deshalb freitags von 20 bis 21:45 Uhr und haben gemeinsam mit der Behindertensportgemeinschaft MG Exklusivzeit in einem Schwimmbad in Mönchengladbach\, um dort unter der Aufsicht eines Rettungsschwimmers ganz unter uns Aquagymnastik zu betreiben.\n\n\n\n\nTeile gerne diesen Beitrag
URL:https://shg-lily-leben.de/termin/schwimmen-aquagymnastik-44/
LOCATION:Pahlkebad Mönchengladbach\, Pahlkestraße 10\, Mönchengladbach\, !!! Bitte anmelden unter shg-lily-leben @ web.de. Teilnahme nur mit vorheriger Anmeldung und 12er Karte oder Reha-Sport-Verordnung\, 41236\, Germany
CATEGORIES:SHG Lily-Leben
ATTACH;FMTTYPE=image/png:https://shg-lily-leben.de/wp-content/uploads/2025/03/Schwimmen.png
END:VEVENT
BEGIN:VEVENT
DTSTART;TZID=Europe/Paris:20251117T180000
DTEND;TZID=Europe/Paris:20251117T193000
DTSTAMP:20260422T113622
CREATED:20250313T180749Z
LAST-MODIFIED:20250314T215824Z
UID:670-1763402400-1763407800@shg-lily-leben.de
SUMMARY:Walking
DESCRIPTION:Da das Lipödem eine fortschreitende Krankheit ist\, ist es wichtig\, mobil zu bleiben. Daher treffen wir uns regelmäßig einmal in der Woche zum gemeinsamen Walken (etwa 3 km) sowohl in Mönchengladbach als auch in Viersen. Wir machen Pausen und passen unser Tempo an\, niemand wird zurückgelassen. Auch hier gilt: Gemeinsam sind wir stark!\n\n\n\n\nTeile gerne diesen Beitrag
URL:https://shg-lily-leben.de/termin/walking-34/
LOCATION:Walkingtreff\, Bitte bei Anmeldung erfragen. Anmeldung unter shg-lily-leben @ web.de
CATEGORIES:SHG Lily-Leben
ATTACH;FMTTYPE=image/png:https://shg-lily-leben.de/wp-content/uploads/2025/03/Walking.png
END:VEVENT
BEGIN:VEVENT
DTSTART;TZID=Europe/Paris:20251120T180000
DTEND;TZID=Europe/Paris:20251120T200000
DTSTAMP:20260422T113622
CREATED:20250312T143022Z
LAST-MODIFIED:20251026T095615Z
UID:469-1763661600-1763668800@shg-lily-leben.de
SUMMARY:Entspannungs-Workshop mit Denise
DESCRIPTION:Teile gerne diesen Beitrag
URL:https://shg-lily-leben.de/termin/yoga-mit-ilka/
LOCATION:SHG-Treff\, Viersen\, NRW\, 41747\, Germany
CATEGORIES:SHG Lily-Leben
ATTACH;FMTTYPE=image/png:https://shg-lily-leben.de/wp-content/uploads/2025/03/SHG-Treffen.png
END:VEVENT
BEGIN:VEVENT
DTSTART;TZID=Europe/Paris:20251121T200000
DTEND;TZID=Europe/Paris:20251121T214500
DTSTAMP:20260422T113622
CREATED:20250313T180608Z
LAST-MODIFIED:20250314T215824Z
UID:632-1763755200-1763761500@shg-lily-leben.de
SUMMARY:Schwimmen / Aquagymnastik
DESCRIPTION:Bewegung im Wasser ist nicht nur besonders gelenkschonend\, sondern auch bei Lipödem und/oder Adipositas sehr gut machbar. Einmal wöchentlich treffen wir uns deshalb freitags von 20 bis 21:45 Uhr und haben gemeinsam mit der Behindertensportgemeinschaft MG Exklusivzeit in einem Schwimmbad in Mönchengladbach\, um dort unter der Aufsicht eines Rettungsschwimmers ganz unter uns Aquagymnastik zu betreiben.\n\n\n\n\nTeile gerne diesen Beitrag
URL:https://shg-lily-leben.de/termin/schwimmen-aquagymnastik-45/
LOCATION:Pahlkebad Mönchengladbach\, Pahlkestraße 10\, Mönchengladbach\, !!! Bitte anmelden unter shg-lily-leben @ web.de. Teilnahme nur mit vorheriger Anmeldung und 12er Karte oder Reha-Sport-Verordnung\, 41236\, Germany
CATEGORIES:SHG Lily-Leben
ATTACH;FMTTYPE=image/png:https://shg-lily-leben.de/wp-content/uploads/2025/03/Schwimmen.png
END:VEVENT
BEGIN:VEVENT
DTSTART;TZID=Europe/Paris:20251124T180000
DTEND;TZID=Europe/Paris:20251124T193000
DTSTAMP:20260422T113622
CREATED:20250313T180750Z
LAST-MODIFIED:20250314T215824Z
UID:671-1764007200-1764012600@shg-lily-leben.de
SUMMARY:Walking
DESCRIPTION:Da das Lipödem eine fortschreitende Krankheit ist\, ist es wichtig\, mobil zu bleiben. Daher treffen wir uns regelmäßig einmal in der Woche zum gemeinsamen Walken (etwa 3 km) sowohl in Mönchengladbach als auch in Viersen. Wir machen Pausen und passen unser Tempo an\, niemand wird zurückgelassen. Auch hier gilt: Gemeinsam sind wir stark!\n\n\n\n\nTeile gerne diesen Beitrag
URL:https://shg-lily-leben.de/termin/walking-35/
LOCATION:Walkingtreff\, Bitte bei Anmeldung erfragen. Anmeldung unter shg-lily-leben @ web.de
CATEGORIES:SHG Lily-Leben
ATTACH;FMTTYPE=image/png:https://shg-lily-leben.de/wp-content/uploads/2025/03/Walking.png
END:VEVENT
BEGIN:VEVENT
DTSTART;TZID=Europe/Paris:20251128T200000
DTEND;TZID=Europe/Paris:20251128T214500
DTSTAMP:20260422T113622
CREATED:20250313T180612Z
LAST-MODIFIED:20250314T215824Z
UID:633-1764360000-1764366300@shg-lily-leben.de
SUMMARY:Schwimmen / Aquagymnastik
DESCRIPTION:Bewegung im Wasser ist nicht nur besonders gelenkschonend\, sondern auch bei Lipödem und/oder Adipositas sehr gut machbar. Einmal wöchentlich treffen wir uns deshalb freitags von 20 bis 21:45 Uhr und haben gemeinsam mit der Behindertensportgemeinschaft MG Exklusivzeit in einem Schwimmbad in Mönchengladbach\, um dort unter der Aufsicht eines Rettungsschwimmers ganz unter uns Aquagymnastik zu betreiben.\n\n\n\n\nTeile gerne diesen Beitrag
URL:https://shg-lily-leben.de/termin/schwimmen-aquagymnastik-46/
LOCATION:Pahlkebad Mönchengladbach\, Pahlkestraße 10\, Mönchengladbach\, !!! Bitte anmelden unter shg-lily-leben @ web.de. Teilnahme nur mit vorheriger Anmeldung und 12er Karte oder Reha-Sport-Verordnung\, 41236\, Germany
CATEGORIES:SHG Lily-Leben
ATTACH;FMTTYPE=image/png:https://shg-lily-leben.de/wp-content/uploads/2025/03/Schwimmen.png
END:VEVENT
END:VCALENDAR