BEGIN:VCALENDAR
VERSION:2.0
PRODID:-//SHG Lily-Leben Viersen - ECPv6.15.20//NONSGML v1.0//EN
CALSCALE:GREGORIAN
METHOD:PUBLISH
X-ORIGINAL-URL:https://shg-lily-leben.de
X-WR-CALDESC:Veranstaltungen für SHG Lily-Leben Viersen
REFRESH-INTERVAL;VALUE=DURATION:PT1H
X-Robots-Tag:noindex
X-PUBLISHED-TTL:PT1H
BEGIN:VTIMEZONE
TZID:Europe/Paris
BEGIN:DAYLIGHT
TZOFFSETFROM:+0100
TZOFFSETTO:+0200
TZNAME:CEST
DTSTART:20240331T010000
END:DAYLIGHT
BEGIN:STANDARD
TZOFFSETFROM:+0200
TZOFFSETTO:+0100
TZNAME:CET
DTSTART:20241027T010000
END:STANDARD
BEGIN:DAYLIGHT
TZOFFSETFROM:+0100
TZOFFSETTO:+0200
TZNAME:CEST
DTSTART:20250330T010000
END:DAYLIGHT
BEGIN:STANDARD
TZOFFSETFROM:+0200
TZOFFSETTO:+0100
TZNAME:CET
DTSTART:20251026T010000
END:STANDARD
BEGIN:DAYLIGHT
TZOFFSETFROM:+0100
TZOFFSETTO:+0200
TZNAME:CEST
DTSTART:20260329T010000
END:DAYLIGHT
BEGIN:STANDARD
TZOFFSETFROM:+0200
TZOFFSETTO:+0100
TZNAME:CET
DTSTART:20261025T010000
END:STANDARD
END:VTIMEZONE
BEGIN:VEVENT
DTSTART;TZID=Europe/Paris:20251006T180000
DTEND;TZID=Europe/Paris:20251006T193000
DTSTAMP:20260422T130722
CREATED:20250313T180739Z
LAST-MODIFIED:20250314T215825Z
UID:664-1759773600-1759779000@shg-lily-leben.de
SUMMARY:Walking
DESCRIPTION:Da das Lipödem eine fortschreitende Krankheit ist\, ist es wichtig\, mobil zu bleiben. Daher treffen wir uns regelmäßig einmal in der Woche zum gemeinsamen Walken (etwa 3 km) sowohl in Mönchengladbach als auch in Viersen. Wir machen Pausen und passen unser Tempo an\, niemand wird zurückgelassen. Auch hier gilt: Gemeinsam sind wir stark!\n\n\n\n\nTeile gerne diesen Beitrag
URL:https://shg-lily-leben.de/termin/walking-28/
LOCATION:Walkingtreff\, Bitte bei Anmeldung erfragen. Anmeldung unter shg-lily-leben @ web.de
CATEGORIES:SHG Lily-Leben
ATTACH;FMTTYPE=image/png:https://shg-lily-leben.de/wp-content/uploads/2025/03/Walking.png
END:VEVENT
BEGIN:VEVENT
DTSTART;TZID=Europe/Paris:20251010T200000
DTEND;TZID=Europe/Paris:20251010T214500
DTSTAMP:20260422T130722
CREATED:20250313T180559Z
LAST-MODIFIED:20250314T215825Z
UID:626-1760126400-1760132700@shg-lily-leben.de
SUMMARY:Schwimmen / Aquagymnastik
DESCRIPTION:Bewegung im Wasser ist nicht nur besonders gelenkschonend\, sondern auch bei Lipödem und/oder Adipositas sehr gut machbar. Einmal wöchentlich treffen wir uns deshalb freitags von 20 bis 21:45 Uhr und haben gemeinsam mit der Behindertensportgemeinschaft MG Exklusivzeit in einem Schwimmbad in Mönchengladbach\, um dort unter der Aufsicht eines Rettungsschwimmers ganz unter uns Aquagymnastik zu betreiben.\n\n\n\n\nTeile gerne diesen Beitrag
URL:https://shg-lily-leben.de/termin/schwimmen-aquagymnastik-39/
LOCATION:Pahlkebad Mönchengladbach\, Pahlkestraße 10\, Mönchengladbach\, !!! Bitte anmelden unter shg-lily-leben @ web.de. Teilnahme nur mit vorheriger Anmeldung und 12er Karte oder Reha-Sport-Verordnung\, 41236\, Germany
CATEGORIES:SHG Lily-Leben
ATTACH;FMTTYPE=image/png:https://shg-lily-leben.de/wp-content/uploads/2025/03/Schwimmen.png
END:VEVENT
BEGIN:VEVENT
DTSTART;TZID=Europe/Paris:20251013T180000
DTEND;TZID=Europe/Paris:20251013T193000
DTSTAMP:20260422T130722
CREATED:20250313T180739Z
LAST-MODIFIED:20250314T215824Z
UID:665-1760378400-1760383800@shg-lily-leben.de
SUMMARY:Walking
DESCRIPTION:Da das Lipödem eine fortschreitende Krankheit ist\, ist es wichtig\, mobil zu bleiben. Daher treffen wir uns regelmäßig einmal in der Woche zum gemeinsamen Walken (etwa 3 km) sowohl in Mönchengladbach als auch in Viersen. Wir machen Pausen und passen unser Tempo an\, niemand wird zurückgelassen. Auch hier gilt: Gemeinsam sind wir stark!\n\n\n\n\nTeile gerne diesen Beitrag
URL:https://shg-lily-leben.de/termin/walking-29/
LOCATION:Walkingtreff\, Bitte bei Anmeldung erfragen. Anmeldung unter shg-lily-leben @ web.de
CATEGORIES:SHG Lily-Leben
ATTACH;FMTTYPE=image/png:https://shg-lily-leben.de/wp-content/uploads/2025/03/Walking.png
END:VEVENT
BEGIN:VEVENT
DTSTART;TZID=Europe/Paris:20251017T200000
DTEND;TZID=Europe/Paris:20251017T214500
DTSTAMP:20260422T130722
CREATED:20250313T180559Z
LAST-MODIFIED:20250314T215824Z
UID:627-1760731200-1760737500@shg-lily-leben.de
SUMMARY:Schwimmen / Aquagymnastik
DESCRIPTION:Bewegung im Wasser ist nicht nur besonders gelenkschonend\, sondern auch bei Lipödem und/oder Adipositas sehr gut machbar. Einmal wöchentlich treffen wir uns deshalb freitags von 20 bis 21:45 Uhr und haben gemeinsam mit der Behindertensportgemeinschaft MG Exklusivzeit in einem Schwimmbad in Mönchengladbach\, um dort unter der Aufsicht eines Rettungsschwimmers ganz unter uns Aquagymnastik zu betreiben.\n\n\n\n\nTeile gerne diesen Beitrag
URL:https://shg-lily-leben.de/termin/schwimmen-aquagymnastik-40/
LOCATION:Pahlkebad Mönchengladbach\, Pahlkestraße 10\, Mönchengladbach\, !!! Bitte anmelden unter shg-lily-leben @ web.de. Teilnahme nur mit vorheriger Anmeldung und 12er Karte oder Reha-Sport-Verordnung\, 41236\, Germany
CATEGORIES:SHG Lily-Leben
ATTACH;FMTTYPE=image/png:https://shg-lily-leben.de/wp-content/uploads/2025/03/Schwimmen.png
END:VEVENT
BEGIN:VEVENT
DTSTART;TZID=Europe/Paris:20251020T180000
DTEND;TZID=Europe/Paris:20251020T193000
DTSTAMP:20260422T130722
CREATED:20250313T180739Z
LAST-MODIFIED:20250314T215824Z
UID:666-1760983200-1760988600@shg-lily-leben.de
SUMMARY:Walking
DESCRIPTION:Da das Lipödem eine fortschreitende Krankheit ist\, ist es wichtig\, mobil zu bleiben. Daher treffen wir uns regelmäßig einmal in der Woche zum gemeinsamen Walken (etwa 3 km) sowohl in Mönchengladbach als auch in Viersen. Wir machen Pausen und passen unser Tempo an\, niemand wird zurückgelassen. Auch hier gilt: Gemeinsam sind wir stark!\n\n\n\n\nTeile gerne diesen Beitrag
URL:https://shg-lily-leben.de/termin/walking-30/
LOCATION:Walkingtreff\, Bitte bei Anmeldung erfragen. Anmeldung unter shg-lily-leben @ web.de
CATEGORIES:SHG Lily-Leben
ATTACH;FMTTYPE=image/png:https://shg-lily-leben.de/wp-content/uploads/2025/03/Walking.png
END:VEVENT
BEGIN:VEVENT
DTSTART;TZID=Europe/Paris:20251024T200000
DTEND;TZID=Europe/Paris:20251024T214500
DTSTAMP:20260422T130722
CREATED:20250313T180608Z
LAST-MODIFIED:20250314T215824Z
UID:628-1761336000-1761342300@shg-lily-leben.de
SUMMARY:Schwimmen / Aquagymnastik
DESCRIPTION:Bewegung im Wasser ist nicht nur besonders gelenkschonend\, sondern auch bei Lipödem und/oder Adipositas sehr gut machbar. Einmal wöchentlich treffen wir uns deshalb freitags von 20 bis 21:45 Uhr und haben gemeinsam mit der Behindertensportgemeinschaft MG Exklusivzeit in einem Schwimmbad in Mönchengladbach\, um dort unter der Aufsicht eines Rettungsschwimmers ganz unter uns Aquagymnastik zu betreiben.\n\n\n\n\nTeile gerne diesen Beitrag
URL:https://shg-lily-leben.de/termin/schwimmen-aquagymnastik-41/
LOCATION:Pahlkebad Mönchengladbach\, Pahlkestraße 10\, Mönchengladbach\, !!! Bitte anmelden unter shg-lily-leben @ web.de. Teilnahme nur mit vorheriger Anmeldung und 12er Karte oder Reha-Sport-Verordnung\, 41236\, Germany
CATEGORIES:SHG Lily-Leben
ATTACH;FMTTYPE=image/png:https://shg-lily-leben.de/wp-content/uploads/2025/03/Schwimmen.png
END:VEVENT
BEGIN:VEVENT
DTSTART;TZID=Europe/Paris:20251027T180000
DTEND;TZID=Europe/Paris:20251027T193000
DTSTAMP:20260422T130722
CREATED:20250313T180739Z
LAST-MODIFIED:20250314T215824Z
UID:667-1761588000-1761593400@shg-lily-leben.de
SUMMARY:Walking
DESCRIPTION:Da das Lipödem eine fortschreitende Krankheit ist\, ist es wichtig\, mobil zu bleiben. Daher treffen wir uns regelmäßig einmal in der Woche zum gemeinsamen Walken (etwa 3 km) sowohl in Mönchengladbach als auch in Viersen. Wir machen Pausen und passen unser Tempo an\, niemand wird zurückgelassen. Auch hier gilt: Gemeinsam sind wir stark!\n\n\n\n\nTeile gerne diesen Beitrag
URL:https://shg-lily-leben.de/termin/walking-31/
LOCATION:Walkingtreff\, Bitte bei Anmeldung erfragen. Anmeldung unter shg-lily-leben @ web.de
CATEGORIES:SHG Lily-Leben
ATTACH;FMTTYPE=image/png:https://shg-lily-leben.de/wp-content/uploads/2025/03/Walking.png
END:VEVENT
BEGIN:VEVENT
DTSTART;TZID=Europe/Paris:20251031T200000
DTEND;TZID=Europe/Paris:20251031T214500
DTSTAMP:20260422T130722
CREATED:20250313T180608Z
LAST-MODIFIED:20250314T215824Z
UID:629-1761940800-1761947100@shg-lily-leben.de
SUMMARY:Schwimmen / Aquagymnastik
DESCRIPTION:Bewegung im Wasser ist nicht nur besonders gelenkschonend\, sondern auch bei Lipödem und/oder Adipositas sehr gut machbar. Einmal wöchentlich treffen wir uns deshalb freitags von 20 bis 21:45 Uhr und haben gemeinsam mit der Behindertensportgemeinschaft MG Exklusivzeit in einem Schwimmbad in Mönchengladbach\, um dort unter der Aufsicht eines Rettungsschwimmers ganz unter uns Aquagymnastik zu betreiben.\n\n\n\n\nTeile gerne diesen Beitrag
URL:https://shg-lily-leben.de/termin/schwimmen-aquagymnastik-42/
LOCATION:Pahlkebad Mönchengladbach\, Pahlkestraße 10\, Mönchengladbach\, !!! Bitte anmelden unter shg-lily-leben @ web.de. Teilnahme nur mit vorheriger Anmeldung und 12er Karte oder Reha-Sport-Verordnung\, 41236\, Germany
CATEGORIES:SHG Lily-Leben
ATTACH;FMTTYPE=image/png:https://shg-lily-leben.de/wp-content/uploads/2025/03/Schwimmen.png
END:VEVENT
END:VCALENDAR