BEGIN:VCALENDAR
VERSION:2.0
PRODID:-//SHG Lily-Leben Viersen - ECPv6.15.20//NONSGML v1.0//EN
CALSCALE:GREGORIAN
METHOD:PUBLISH
X-ORIGINAL-URL:https://shg-lily-leben.de
X-WR-CALDESC:Veranstaltungen für SHG Lily-Leben Viersen
REFRESH-INTERVAL;VALUE=DURATION:PT1H
X-Robots-Tag:noindex
X-PUBLISHED-TTL:PT1H
BEGIN:VTIMEZONE
TZID:Europe/Paris
BEGIN:DAYLIGHT
TZOFFSETFROM:+0100
TZOFFSETTO:+0200
TZNAME:CEST
DTSTART:20240331T010000
END:DAYLIGHT
BEGIN:STANDARD
TZOFFSETFROM:+0200
TZOFFSETTO:+0100
TZNAME:CET
DTSTART:20241027T010000
END:STANDARD
BEGIN:DAYLIGHT
TZOFFSETFROM:+0100
TZOFFSETTO:+0200
TZNAME:CEST
DTSTART:20250330T010000
END:DAYLIGHT
BEGIN:STANDARD
TZOFFSETFROM:+0200
TZOFFSETTO:+0100
TZNAME:CET
DTSTART:20251026T010000
END:STANDARD
BEGIN:DAYLIGHT
TZOFFSETFROM:+0100
TZOFFSETTO:+0200
TZNAME:CEST
DTSTART:20260329T010000
END:DAYLIGHT
BEGIN:STANDARD
TZOFFSETFROM:+0200
TZOFFSETTO:+0100
TZNAME:CET
DTSTART:20261025T010000
END:STANDARD
END:VTIMEZONE
BEGIN:VEVENT
DTSTART;TZID=Europe/Paris:20250502T200000
DTEND;TZID=Europe/Paris:20250502T214500
DTSTAMP:20260422T214345
CREATED:20250313T180510Z
LAST-MODIFIED:20250314T215758Z
UID:604-1746216000-1746222300@shg-lily-leben.de
SUMMARY:Schwimmen / Aquagymnastik
DESCRIPTION:Bewegung im Wasser ist nicht nur besonders gelenkschonend\, sondern auch bei Lipödem und/oder Adipositas sehr gut machbar. Einmal wöchentlich treffen wir uns deshalb freitags von 20 bis 21:45 Uhr und haben gemeinsam mit der Behindertensportgemeinschaft MG Exklusivzeit in einem Schwimmbad in Mönchengladbach\, um dort unter der Aufsicht eines Rettungsschwimmers ganz unter uns Aquagymnastik zu betreiben.\n\n\n\n\nTeile gerne diesen Beitrag
URL:https://shg-lily-leben.de/termin/schwimmen-aquagymnastik-17/
LOCATION:Pahlkebad Mönchengladbach\, Pahlkestraße 10\, Mönchengladbach\, !!! Bitte anmelden unter shg-lily-leben @ web.de. Teilnahme nur mit vorheriger Anmeldung und 12er Karte oder Reha-Sport-Verordnung\, 41236\, Germany
CATEGORIES:SHG Lily-Leben
ATTACH;FMTTYPE=image/png:https://shg-lily-leben.de/wp-content/uploads/2025/03/Schwimmen.png
END:VEVENT
BEGIN:VEVENT
DTSTART;TZID=Europe/Paris:20250505T180000
DTEND;TZID=Europe/Paris:20250505T193000
DTSTAMP:20260422T214345
CREATED:20250313T180646Z
LAST-MODIFIED:20250314T215758Z
UID:643-1746468000-1746473400@shg-lily-leben.de
SUMMARY:Walking
DESCRIPTION:Da das Lipödem eine fortschreitende Krankheit ist\, ist es wichtig\, mobil zu bleiben. Daher treffen wir uns regelmäßig einmal in der Woche zum gemeinsamen Walken (etwa 3 km) sowohl in Mönchengladbach als auch in Viersen. Wir machen Pausen und passen unser Tempo an\, niemand wird zurückgelassen. Auch hier gilt: Gemeinsam sind wir stark!\n\n\n\n\nTeile gerne diesen Beitrag
URL:https://shg-lily-leben.de/termin/walking-7/
LOCATION:Walkingtreff\, Bitte bei Anmeldung erfragen. Anmeldung unter shg-lily-leben @ web.de
CATEGORIES:SHG Lily-Leben
ATTACH;FMTTYPE=image/png:https://shg-lily-leben.de/wp-content/uploads/2025/03/Walking.png
END:VEVENT
BEGIN:VEVENT
DTSTART;TZID=Europe/Paris:20250509T200000
DTEND;TZID=Europe/Paris:20250509T214500
DTSTAMP:20260422T214345
CREATED:20250313T180510Z
LAST-MODIFIED:20250314T215758Z
UID:605-1746820800-1746827100@shg-lily-leben.de
SUMMARY:Schwimmen / Aquagymnastik
DESCRIPTION:Teile gerne diesen Beitrag
URL:https://shg-lily-leben.de/termin/schwimmen-aquagymnastik-18/
LOCATION:Pahlkebad Mönchengladbach\, Pahlkestraße 10\, Mönchengladbach\, !!! Bitte anmelden unter shg-lily-leben @ web.de. Teilnahme nur mit vorheriger Anmeldung und 12er Karte oder Reha-Sport-Verordnung\, 41236\, Germany
CATEGORIES:SHG Lily-Leben
ATTACH;FMTTYPE=image/png:https://shg-lily-leben.de/wp-content/uploads/2025/03/Schwimmen.png
END:VEVENT
BEGIN:VEVENT
DTSTART;TZID=Europe/Paris:20250512T180000
DTEND;TZID=Europe/Paris:20250512T193000
DTSTAMP:20260422T214345
CREATED:20250313T180646Z
LAST-MODIFIED:20250314T215758Z
UID:644-1747072800-1747078200@shg-lily-leben.de
SUMMARY:Walking
DESCRIPTION:Da das Lipödem eine fortschreitende Krankheit ist\, ist es wichtig\, mobil zu bleiben. Daher treffen wir uns regelmäßig einmal in der Woche zum gemeinsamen Walken (etwa 3 km) sowohl in Mönchengladbach als auch in Viersen. Wir machen Pausen und passen unser Tempo an\, niemand wird zurückgelassen. Auch hier gilt: Gemeinsam sind wir stark!\n\n\n\n\nTeile gerne diesen Beitrag
URL:https://shg-lily-leben.de/termin/walking-8/
LOCATION:Walkingtreff\, Bitte bei Anmeldung erfragen. Anmeldung unter shg-lily-leben @ web.de
CATEGORIES:SHG Lily-Leben
ATTACH;FMTTYPE=image/png:https://shg-lily-leben.de/wp-content/uploads/2025/03/Walking.png
END:VEVENT
BEGIN:VEVENT
DTSTART;TZID=Europe/Paris:20250516T200000
DTEND;TZID=Europe/Paris:20250516T214500
DTSTAMP:20260422T214345
CREATED:20250313T180510Z
LAST-MODIFIED:20250314T215758Z
UID:606-1747425600-1747431900@shg-lily-leben.de
SUMMARY:Schwimmen / Aquagymnastik
DESCRIPTION:Bewegung im Wasser ist nicht nur besonders gelenkschonend\, sondern auch bei Lipödem und/oder Adipositas sehr gut machbar. Einmal wöchentlich treffen wir uns deshalb freitags von 20 bis 21:45 Uhr und haben gemeinsam mit der Behindertensportgemeinschaft MG Exklusivzeit in einem Schwimmbad in Mönchengladbach\, um dort unter der Aufsicht eines Rettungsschwimmers ganz unter uns Aquagymnastik zu betreiben.\n\n\n\n\nTeile gerne diesen Beitrag
URL:https://shg-lily-leben.de/termin/schwimmen-aquagymnastik-19/
LOCATION:Pahlkebad Mönchengladbach\, Pahlkestraße 10\, Mönchengladbach\, !!! Bitte anmelden unter shg-lily-leben @ web.de. Teilnahme nur mit vorheriger Anmeldung und 12er Karte oder Reha-Sport-Verordnung\, 41236\, Germany
CATEGORIES:SHG Lily-Leben
ATTACH;FMTTYPE=image/png:https://shg-lily-leben.de/wp-content/uploads/2025/03/Schwimmen.png
END:VEVENT
BEGIN:VEVENT
DTSTART;TZID=Europe/Paris:20250519T180000
DTEND;TZID=Europe/Paris:20250519T193000
DTSTAMP:20260422T214345
CREATED:20250313T180646Z
LAST-MODIFIED:20250314T215758Z
UID:645-1747677600-1747683000@shg-lily-leben.de
SUMMARY:Walking
DESCRIPTION:Da das Lipödem eine fortschreitende Krankheit ist\, ist es wichtig\, mobil zu bleiben. Daher treffen wir uns regelmäßig einmal in der Woche zum gemeinsamen Walken (etwa 3 km) sowohl in Mönchengladbach als auch in Viersen. Wir machen Pausen und passen unser Tempo an\, niemand wird zurückgelassen. Auch hier gilt: Gemeinsam sind wir stark!\n\n\n\n\nTeile gerne diesen Beitrag
URL:https://shg-lily-leben.de/termin/walking-9/
LOCATION:Walkingtreff\, Bitte bei Anmeldung erfragen. Anmeldung unter shg-lily-leben @ web.de
CATEGORIES:SHG Lily-Leben
ATTACH;FMTTYPE=image/png:https://shg-lily-leben.de/wp-content/uploads/2025/03/Walking.png
END:VEVENT
BEGIN:VEVENT
DTSTART;TZID=Europe/Paris:20250523T200000
DTEND;TZID=Europe/Paris:20250523T214500
DTSTAMP:20260422T214345
CREATED:20250313T180510Z
LAST-MODIFIED:20250314T215758Z
UID:607-1748030400-1748036700@shg-lily-leben.de
SUMMARY:Schwimmen / Aquagymnastik
DESCRIPTION:Bewegung im Wasser ist nicht nur besonders gelenkschonend\, sondern auch bei Lipödem und/oder Adipositas sehr gut machbar. Einmal wöchentlich treffen wir uns deshalb freitags von 20 bis 21:45 Uhr und haben gemeinsam mit der Behindertensportgemeinschaft MG Exklusivzeit in einem Schwimmbad in Mönchengladbach\, um dort unter der Aufsicht eines Rettungsschwimmers ganz unter uns Aquagymnastik zu betreiben.\n\n\n\n\nTeile gerne diesen Beitrag
URL:https://shg-lily-leben.de/termin/schwimmen-aquagymnastik-20/
LOCATION:Pahlkebad Mönchengladbach\, Pahlkestraße 10\, Mönchengladbach\, !!! Bitte anmelden unter shg-lily-leben @ web.de. Teilnahme nur mit vorheriger Anmeldung und 12er Karte oder Reha-Sport-Verordnung\, 41236\, Germany
CATEGORIES:SHG Lily-Leben
ATTACH;FMTTYPE=image/png:https://shg-lily-leben.de/wp-content/uploads/2025/03/Schwimmen.png
END:VEVENT
BEGIN:VEVENT
DTSTART;TZID=Europe/Paris:20250526T180000
DTEND;TZID=Europe/Paris:20250526T193000
DTSTAMP:20260422T214345
CREATED:20250313T180646Z
LAST-MODIFIED:20250314T215758Z
UID:646-1748282400-1748287800@shg-lily-leben.de
SUMMARY:Walking
DESCRIPTION:Da das Lipödem eine fortschreitende Krankheit ist\, ist es wichtig\, mobil zu bleiben. Daher treffen wir uns regelmäßig einmal in der Woche zum gemeinsamen Walken (etwa 3 km) sowohl in Mönchengladbach als auch in Viersen. Wir machen Pausen und passen unser Tempo an\, niemand wird zurückgelassen. Auch hier gilt: Gemeinsam sind wir stark!\n\n\n\n\nTeile gerne diesen Beitrag
URL:https://shg-lily-leben.de/termin/walking-10/
LOCATION:Walkingtreff\, Bitte bei Anmeldung erfragen. Anmeldung unter shg-lily-leben @ web.de
CATEGORIES:SHG Lily-Leben
ATTACH;FMTTYPE=image/png:https://shg-lily-leben.de/wp-content/uploads/2025/03/Walking.png
END:VEVENT
BEGIN:VEVENT
DTSTART;TZID=Europe/Paris:20250530T200000
DTEND;TZID=Europe/Paris:20250530T214500
DTSTAMP:20260422T214345
CREATED:20250313T180533Z
LAST-MODIFIED:20250314T215758Z
UID:608-1748635200-1748641500@shg-lily-leben.de
SUMMARY:Schwimmen / Aquagymnastik
DESCRIPTION:Bewegung im Wasser ist nicht nur besonders gelenkschonend\, sondern auch bei Lipödem und/oder Adipositas sehr gut machbar. Einmal wöchentlich treffen wir uns deshalb freitags von 20 bis 21:45 Uhr und haben gemeinsam mit der Behindertensportgemeinschaft MG Exklusivzeit in einem Schwimmbad in Mönchengladbach\, um dort unter der Aufsicht eines Rettungsschwimmers ganz unter uns Aquagymnastik zu betreiben.\n\n\n\n\nTeile gerne diesen Beitrag
URL:https://shg-lily-leben.de/termin/schwimmen-aquagymnastik-21/
LOCATION:Pahlkebad Mönchengladbach\, Pahlkestraße 10\, Mönchengladbach\, !!! Bitte anmelden unter shg-lily-leben @ web.de. Teilnahme nur mit vorheriger Anmeldung und 12er Karte oder Reha-Sport-Verordnung\, 41236\, Germany
CATEGORIES:SHG Lily-Leben
ATTACH;FMTTYPE=image/png:https://shg-lily-leben.de/wp-content/uploads/2025/03/Schwimmen.png
END:VEVENT
END:VCALENDAR