BEGIN:VCALENDAR
VERSION:2.0
PRODID:-//SHG Lily-Leben Viersen - ECPv6.15.20//NONSGML v1.0//EN
CALSCALE:GREGORIAN
METHOD:PUBLISH
X-ORIGINAL-URL:https://shg-lily-leben.de
X-WR-CALDESC:Veranstaltungen für SHG Lily-Leben Viersen
REFRESH-INTERVAL;VALUE=DURATION:PT1H
X-Robots-Tag:noindex
X-PUBLISHED-TTL:PT1H
BEGIN:VTIMEZONE
TZID:Europe/Paris
BEGIN:DAYLIGHT
TZOFFSETFROM:+0100
TZOFFSETTO:+0200
TZNAME:CEST
DTSTART:20240331T010000
END:DAYLIGHT
BEGIN:STANDARD
TZOFFSETFROM:+0200
TZOFFSETTO:+0100
TZNAME:CET
DTSTART:20241027T010000
END:STANDARD
BEGIN:DAYLIGHT
TZOFFSETFROM:+0100
TZOFFSETTO:+0200
TZNAME:CEST
DTSTART:20250330T010000
END:DAYLIGHT
BEGIN:STANDARD
TZOFFSETFROM:+0200
TZOFFSETTO:+0100
TZNAME:CET
DTSTART:20251026T010000
END:STANDARD
BEGIN:DAYLIGHT
TZOFFSETFROM:+0100
TZOFFSETTO:+0200
TZNAME:CEST
DTSTART:20260329T010000
END:DAYLIGHT
BEGIN:STANDARD
TZOFFSETFROM:+0200
TZOFFSETTO:+0100
TZNAME:CET
DTSTART:20261025T010000
END:STANDARD
END:VTIMEZONE
BEGIN:VEVENT
DTSTART;TZID=Europe/Paris:20250110T200000
DTEND;TZID=Europe/Paris:20250110T214500
DTSTAMP:20260423T033221
CREATED:20250313T180453Z
LAST-MODIFIED:20250314T215734Z
UID:589-1736539200-1736545500@shg-lily-leben.de
SUMMARY:Schwimmen / Aquagymnastik
DESCRIPTION:Teile gerne diesen Beitrag
URL:https://shg-lily-leben.de/termin/schwimmen-aquagymnastik-3/
LOCATION:Pahlkebad Mönchengladbach\, Pahlkestraße 10\, Mönchengladbach\, !!! Bitte anmelden unter shg-lily-leben @ web.de. Teilnahme nur mit vorheriger Anmeldung und 12er Karte oder Reha-Sport-Verordnung\, 41236\, Germany
CATEGORIES:SHG Lily-Leben
ATTACH;FMTTYPE=image/png:https://shg-lily-leben.de/wp-content/uploads/2025/03/Schwimmen.png
END:VEVENT
BEGIN:VEVENT
DTSTART;TZID=Europe/Paris:20250117T200000
DTEND;TZID=Europe/Paris:20250117T214500
DTSTAMP:20260423T033221
CREATED:20250313T180453Z
LAST-MODIFIED:20250314T215734Z
UID:590-1737144000-1737150300@shg-lily-leben.de
SUMMARY:Schwimmen / Aquagymnastik
DESCRIPTION:Teile gerne diesen Beitrag
URL:https://shg-lily-leben.de/termin/schwimmen-aquagymnastik-4/
LOCATION:Pahlkebad Mönchengladbach\, Pahlkestraße 10\, Mönchengladbach\, !!! Bitte anmelden unter shg-lily-leben @ web.de. Teilnahme nur mit vorheriger Anmeldung und 12er Karte oder Reha-Sport-Verordnung\, 41236\, Germany
CATEGORIES:SHG Lily-Leben
ATTACH;FMTTYPE=image/png:https://shg-lily-leben.de/wp-content/uploads/2025/03/Schwimmen.png
END:VEVENT
BEGIN:VEVENT
DTSTART;TZID=Europe/Paris:20250124T200000
DTEND;TZID=Europe/Paris:20250124T214500
DTSTAMP:20260423T033221
CREATED:20250313T180453Z
LAST-MODIFIED:20250314T215734Z
UID:591-1737748800-1737755100@shg-lily-leben.de
SUMMARY:Schwimmen / Aquagymnastik
DESCRIPTION:Teile gerne diesen Beitrag
URL:https://shg-lily-leben.de/termin/schwimmen-aquagymnastik-5/
LOCATION:Pahlkebad Mönchengladbach\, Pahlkestraße 10\, Mönchengladbach\, !!! Bitte anmelden unter shg-lily-leben @ web.de. Teilnahme nur mit vorheriger Anmeldung und 12er Karte oder Reha-Sport-Verordnung\, 41236\, Germany
CATEGORIES:SHG Lily-Leben
END:VEVENT
BEGIN:VEVENT
DTSTART;TZID=Europe/Paris:20250131T200000
DTEND;TZID=Europe/Paris:20250131T214500
DTSTAMP:20260423T033221
CREATED:20250313T180453Z
LAST-MODIFIED:20250314T215734Z
UID:592-1738353600-1738359900@shg-lily-leben.de
SUMMARY:Schwimmen / Aquagymnastik
DESCRIPTION:Teile gerne diesen Beitrag
URL:https://shg-lily-leben.de/termin/schwimmen-aquagymnastik-6/
LOCATION:Pahlkebad Mönchengladbach\, Pahlkestraße 10\, Mönchengladbach\, !!! Bitte anmelden unter shg-lily-leben @ web.de. Teilnahme nur mit vorheriger Anmeldung und 12er Karte oder Reha-Sport-Verordnung\, 41236\, Germany
CATEGORIES:SHG Lily-Leben
ATTACH;FMTTYPE=image/png:https://shg-lily-leben.de/wp-content/uploads/2025/03/Schwimmen.png
END:VEVENT
END:VCALENDAR