BEGIN:VCALENDAR
VERSION:2.0
PRODID:-//SHG Lily-Leben Viersen - ECPv6.15.20//NONSGML v1.0//EN
CALSCALE:GREGORIAN
METHOD:PUBLISH
X-WR-CALNAME:SHG Lily-Leben Viersen
X-ORIGINAL-URL:https://shg-lily-leben.de
X-WR-CALDESC:Veranstaltungen für SHG Lily-Leben Viersen
REFRESH-INTERVAL;VALUE=DURATION:PT1H
X-Robots-Tag:noindex
X-PUBLISHED-TTL:PT1H
BEGIN:VTIMEZONE
TZID:Europe/Paris
BEGIN:DAYLIGHT
TZOFFSETFROM:+0100
TZOFFSETTO:+0200
TZNAME:CEST
DTSTART:20240331T010000
END:DAYLIGHT
BEGIN:STANDARD
TZOFFSETFROM:+0200
TZOFFSETTO:+0100
TZNAME:CET
DTSTART:20241027T010000
END:STANDARD
BEGIN:DAYLIGHT
TZOFFSETFROM:+0100
TZOFFSETTO:+0200
TZNAME:CEST
DTSTART:20250330T010000
END:DAYLIGHT
BEGIN:STANDARD
TZOFFSETFROM:+0200
TZOFFSETTO:+0100
TZNAME:CET
DTSTART:20251026T010000
END:STANDARD
BEGIN:DAYLIGHT
TZOFFSETFROM:+0100
TZOFFSETTO:+0200
TZNAME:CEST
DTSTART:20260329T010000
END:DAYLIGHT
BEGIN:STANDARD
TZOFFSETFROM:+0200
TZOFFSETTO:+0100
TZNAME:CET
DTSTART:20261025T010000
END:STANDARD
END:VTIMEZONE
BEGIN:VEVENT
DTSTART;TZID=Europe/Paris:20250508T180000
DTEND;TZID=Europe/Paris:20250508T200000
DTSTAMP:20260421T174651
CREATED:20250410T192003Z
LAST-MODIFIED:20250410T193409Z
UID:997-1746727200-1746734400@shg-lily-leben.de
SUMMARY:Stammtisch
DESCRIPTION:Teile gerne diesen Beitrag
URL:https://shg-lily-leben.de/termin/stammtisch/
LOCATION:Wechselnde Restaurants\, Bitte bei Anmeldung erfragen. Anmeldung unter shg-lily-leben @ web.de
CATEGORIES:SHG Lily-Leben
END:VEVENT
BEGIN:VEVENT
DTSTART;TZID=Europe/Paris:20250510T094500
DTEND;TZID=Europe/Paris:20250510T103000
DTSTAMP:20260421T174651
CREATED:20250406T114032Z
LAST-MODIFIED:20250406T114811Z
UID:972-1746870300-1746873000@shg-lily-leben.de
SUMMARY:Werde laut mit uns! Fotoaktion
DESCRIPTION:📢 Wir wollen laut werden und uns mit einer Aktion zum Weltlipödemtag für eine bessere\, bedarfsgerechte Versorgung einsetzen und mit den Vorurteilen aufräumen.💪🏻 \n\n\n\nUnser Plan: \n\n\n\n📍Wir treffen uns am 10.05.2025 in Düsseldorf für ein gemeinsames Foto. Wir stellen uns in Buchstabenform auf und bilden alle zusammen die Buchstaben L I P Ö D E M (über 20m etwa) und fotografieren das von der Theodor-Heuss-Brücke aus. Ihr alle bekommt im Anschluss das Foto und könnt es für Postings in den Sozialen Medien\, für Artikel in Zeitungen etc. nutzen.💪🏻 (Und keine Angst\, alle sind vollständig bekleidet!) \n\n\n\nTreffpunkt: \n\n\n\n=> Navi: Cecilienallee 82\, 40474 Düsseldorf \n\n\n\nParkplätze unter der Theodor-Heuss-Brücke\, zudem entlang der Cecilienallee. Für alle\, die Probleme mit dem Laufen haben\, kann direkt an der Wiese im lila markierten Bereich am Robert-Lehr-Ufer geparkt werden. Hier aber bitte nur im Notfall. \n\n\n\n=> Haltestellen: „Theodor-Heuss-Brücke“: U78\, U79\, 729\,756\, 834 und „Golzheimer Platz“: U78\, U 79 \n\n\n\n🏁 Ziel: Jede Teilnehmerin und jede SHG kann das Bild für sich medial nutzen\, wir kümmern uns aber darum\, dass auch zum Fotoshooting möglichst schon Presse und Fernsehen da sind. 📷 🎥 📰 \n\n\n\n🌮 Und damit auch der Spaß nicht zu kurz kommt\, picknicken wir gemeinsam und netzwerken!🤝🏻 \n\n\n\n\n\n\n\n\n\n\nTeile gerne diesen Beitrag
URL:https://shg-lily-leben.de/termin/werde-laut-mit-uns-fotoaktion/
LOCATION:NRW
CATEGORIES:SHG Lily-Leben
ATTACH;FMTTYPE=image/png:https://shg-lily-leben.de/wp-content/uploads/2025/04/Aufruf-Demo.png
END:VEVENT
BEGIN:VEVENT
DTSTART;TZID=Europe/Paris:20250515T180000
DTEND;TZID=Europe/Paris:20250515T200000
DTSTAMP:20260421T174651
CREATED:20250312T143006Z
LAST-MODIFIED:20250314T215758Z
UID:457-1747332000-1747339200@shg-lily-leben.de
SUMMARY:Offene Runde und Lympheinheit von Physio Frank
DESCRIPTION:Teile gerne diesen Beitrag
URL:https://shg-lily-leben.de/termin/offene-runde-und-lympheinheit-von-physio-frank/
LOCATION:SHG-Treff\, Viersen\, NRW\, 41747\, Germany
CATEGORIES:SHG Lily-Leben
ATTACH;FMTTYPE=image/png:https://shg-lily-leben.de/wp-content/uploads/2025/03/SHG-Treffen.png
END:VEVENT
END:VCALENDAR